BEGIN:VCALENDAR
VERSION:2.0
PRODID:-//Angela Hewitt - ECPv6.15.17.1//NONSGML v1.0//EN
CALSCALE:GREGORIAN
METHOD:PUBLISH
X-WR-CALNAME:Angela Hewitt
X-ORIGINAL-URL:https://angelahewitt.com
X-WR-CALDESC:Events for Angela Hewitt
REFRESH-INTERVAL;VALUE=DURATION:PT1H
X-Robots-Tag:noindex
X-PUBLISHED-TTL:PT1H
BEGIN:VTIMEZONE
TZID:Europe/London
BEGIN:DAYLIGHT
TZOFFSETFROM:+0000
TZOFFSETTO:+0100
TZNAME:BST
DTSTART:20250330T010000
END:DAYLIGHT
BEGIN:STANDARD
TZOFFSETFROM:+0100
TZOFFSETTO:+0000
TZNAME:GMT
DTSTART:20251026T010000
END:STANDARD
BEGIN:DAYLIGHT
TZOFFSETFROM:+0000
TZOFFSETTO:+0100
TZNAME:BST
DTSTART:20260329T010000
END:DAYLIGHT
BEGIN:STANDARD
TZOFFSETFROM:+0100
TZOFFSETTO:+0000
TZNAME:GMT
DTSTART:20261025T010000
END:STANDARD
BEGIN:DAYLIGHT
TZOFFSETFROM:+0000
TZOFFSETTO:+0100
TZNAME:BST
DTSTART:20270328T010000
END:DAYLIGHT
BEGIN:STANDARD
TZOFFSETFROM:+0100
TZOFFSETTO:+0000
TZNAME:GMT
DTSTART:20271031T010000
END:STANDARD
END:VTIMEZONE
BEGIN:VEVENT
DTSTART;TZID=Europe/London:20260306T190000
DTEND;TZID=Europe/London:20260306T190000
DTSTAMP:20260421T090259
CREATED:20251123T144029Z
LAST-MODIFIED:20251123T144029Z
UID:24462-1772823600-1772823600@angelahewitt.com
SUMMARY:Concert in Ottawa
DESCRIPTION:Bach: Partita No. 5 in G major (solo piano)\nThuille: Sextet for Piano and Winds\ninterval\nMozart: Piano Concerto in B-flat major\, K456 \nOttawa’s beloved piano superstar Angela Hewitt returns with the next chapter of her Mozart Odyssey project. Launched in March 2024\, this ambitious undertaking sees Hewitt performing Mozart’s complete piano concertos with leading orchestras around the world through to December 2026.\nTonight marks the second Ottawa performance in the series\, with other stops including New York\, Milan\, London\, and Brussels. On tonight’s programme is Mozart’s Piano Concerto No. 18\, offering a delightful spectrum of Mozartian charm—from the scintillating\, refined lyricism of the Allegro vivace movements to the serene sweetness of the Andante un poco sostenuto.\nRenowned for her deep dedication and profound insight into Mozart’s music\, Hewitt brings world-class artistry and passion to every note of this extraordinary journey.\nArtists: \nAngela Hewitt\, piano\nChamberfest Festival Orchestra
URL:https://angelahewitt.com/performance/concert-in-ottawa-9/
LOCATION:Carleton Dominion-Chalmers Centre\, 355 Cooper Street\, Ottawa\, Canada
END:VEVENT
BEGIN:VEVENT
DTSTART;TZID=Europe/London:20260309T193000
DTEND;TZID=Europe/London:20260309T193000
DTSTAMP:20260421T090259
CREATED:20260120T213950Z
LAST-MODIFIED:20260120T213950Z
UID:24590-1773084600-1773084600@angelahewitt.com
SUMMARY:Chamber Music in Toronto
DESCRIPTION:Bach: Partita No. 5 in G major\, BWV 829\nMozart: Quintet for Piano and Winds in E-flat major\, K 452\nThuille: Sextet for Piano and Winds in B-flat major\, Op. 6 \nAngela Hewitt\, piano\nand\nMembers of the Toronto Symphony Orchestra:\nSarah Jeffrey (oboe)\nKelly Zimba (flute)\nEric Abramovitz (clarinet)\nMarlene Ngalissamy (bassoon)\nNeil Deland (horn)
URL:https://angelahewitt.com/performance/chamber-music-in-toronto/
LOCATION:Hugh’s Room Live\, 296 Broadview Ave\, Toronto\, M4M 2G7\, Canada
END:VEVENT
BEGIN:VEVENT
DTSTART;TZID=Europe/London:20260314T143000
DTEND;TZID=Europe/London:20260314T143000
DTSTAMP:20260421T090259
CREATED:20251123T150413Z
LAST-MODIFIED:20251123T150413Z
UID:24471-1773498600-1773498600@angelahewitt.com
SUMMARY:Recital in Walnut Creek\, CA
DESCRIPTION:BACH Partita No. 5 in G Major\, BWV 829\nSCHUMANN Sonata No. 2 in G minor\, Op. 22\nCOUPERIN: Selections from Sixième Ordre\, Second Livre de Pièces de clavecin\nRAVEL Le Tombeau de Couperin
URL:https://angelahewitt.com/performance/recital-in-walnut-creek-ca-2/
LOCATION:Margaret Lesher Theatre\, 601 Civic Drive\, Walnut Creek\, CA\, 94596\, United States
END:VEVENT
BEGIN:VEVENT
DTSTART;TZID=Europe/London:20260315T150000
DTEND;TZID=Europe/London:20260315T150000
DTSTAMP:20260421T090259
CREATED:20251123T145833Z
LAST-MODIFIED:20251123T145833Z
UID:24468-1773586800-1773586800@angelahewitt.com
SUMMARY:Recital in San Francisco
DESCRIPTION:BACH Partita No. 5 in G Major\, BWV 829\nSCHUMANN Sonata No. 2 in G minor\, Op. 22\nCOUPERIN: Selections from Sixième Ordre\, Second Livre de Pièces de clavecin\nRAVEL Le Tombeau de Couperin
URL:https://angelahewitt.com/performance/recital-in-san-francisco-3/
LOCATION:Herbst Theatre\, 401 Van Ness Avenue\, San Francisco\, CA\, 94102\, United States
END:VEVENT
BEGIN:VEVENT
DTSTART;TZID=Europe/London:20260316T193000
DTEND;TZID=Europe/London:20260316T193000
DTSTAMP:20260421T090259
CREATED:20251123T175930Z
LAST-MODIFIED:20251123T175930Z
UID:24473-1773689400-1773689400@angelahewitt.com
SUMMARY:Recital in Palo Alto\, CA
DESCRIPTION:BACH Partita No. 5 in G Major\, BWV 829\nSCHUMANN Sonata No. 2 in G minor\, Op. 22\nCOUPERIN: Selections from Sixième Ordre\, Second Livre de Pièces de clavecin\nRAVEL Le Tombeau de Couperin
URL:https://angelahewitt.com/performance/recital-in-palo-alto-ca-2/
LOCATION:Shultz Cultural Arts Hall\, Oshman Family JCC\, 3921 Fabian Way\, Palo Alto\, CA\, 94303\, United States
END:VEVENT
BEGIN:VEVENT
DTSTART;TZID=Europe/London:20260322T150000
DTEND;TZID=Europe/London:20260322T150000
DTSTAMP:20260421T090259
CREATED:20251123T144945Z
LAST-MODIFIED:20251123T144945Z
UID:24464-1774191600-1774191600@angelahewitt.com
SUMMARY:Recital in Aliso Viejo\, CA
DESCRIPTION:BACH Partita No. 5 in G major\nSCHUMANN Sonata No. 2 in G minor\, Op. 22\nINTERMISSION\nCOUPERIN From the Sixième Ordre\n     Les Moissonneurs\n     Les Langueurs-Tendres\n     Les Baricades Mistérieuses\n     Les Bergeries\n     Le Moucheron\nRAVEL Le Tombeau de Couperin \nBack by popular demand\, we’re excited to welcome the incomparable Angela Hewitt for her much-anticipated return\, following last season’s unforgettable performance.
URL:https://angelahewitt.com/performance/recital-in-aliso-viejo-ca/
LOCATION:Soka Performing Arts Centre\, 1 University Drive\, Aliso Viejo\, CA\, 92656\, United States
END:VEVENT
BEGIN:VEVENT
DTSTART;TZID=Europe/London:20260324T200000
DTEND;TZID=Europe/London:20260324T200000
DTSTAMP:20260421T090259
CREATED:20251123T145528Z
LAST-MODIFIED:20260302T143432Z
UID:24466-1774382400-1774382400@angelahewitt.com
SUMMARY:Recital in Chicago
DESCRIPTION:As part of the 150th anniversary Music Teachers National Association conference in Chicago. \nThis event is part of the conference and open only to delegates.
URL:https://angelahewitt.com/performance/recital-in-chicago/
END:VEVENT
END:VCALENDAR