BEGIN:VCALENDAR
VERSION:2.0
PRODID:-//Angela Hewitt - ECPv6.15.17.1//NONSGML v1.0//EN
CALSCALE:GREGORIAN
METHOD:PUBLISH
X-WR-CALNAME:Angela Hewitt
X-ORIGINAL-URL:https://angelahewitt.com
X-WR-CALDESC:Events for Angela Hewitt
REFRESH-INTERVAL;VALUE=DURATION:PT1H
X-Robots-Tag:noindex
X-PUBLISHED-TTL:PT1H
BEGIN:VTIMEZONE
TZID:Europe/London
BEGIN:DAYLIGHT
TZOFFSETFROM:+0000
TZOFFSETTO:+0100
TZNAME:BST
DTSTART:20250330T010000
END:DAYLIGHT
BEGIN:STANDARD
TZOFFSETFROM:+0100
TZOFFSETTO:+0000
TZNAME:GMT
DTSTART:20251026T010000
END:STANDARD
BEGIN:DAYLIGHT
TZOFFSETFROM:+0000
TZOFFSETTO:+0100
TZNAME:BST
DTSTART:20260329T010000
END:DAYLIGHT
BEGIN:STANDARD
TZOFFSETFROM:+0100
TZOFFSETTO:+0000
TZNAME:GMT
DTSTART:20261025T010000
END:STANDARD
BEGIN:DAYLIGHT
TZOFFSETFROM:+0000
TZOFFSETTO:+0100
TZNAME:BST
DTSTART:20270328T010000
END:DAYLIGHT
BEGIN:STANDARD
TZOFFSETFROM:+0100
TZOFFSETTO:+0000
TZNAME:GMT
DTSTART:20271031T010000
END:STANDARD
END:VTIMEZONE
BEGIN:VEVENT
DTSTART;TZID=Europe/London:20260417T190000
DTEND;TZID=Europe/London:20260417T190000
DTSTAMP:20260421T090234
CREATED:20251123T181244Z
LAST-MODIFIED:20251123T181244Z
UID:24478-1776452400-1776452400@angelahewitt.com
SUMMARY:Recital in Weimar
DESCRIPTION:Johann Sebastian Bach:\nToccata in D major BWV 912\nFrench Suite No. 5 in G major BWV 816\nChromatic Fantasy and Fugue in D minor BWV 903\nPartita No. 5 in G major BWV 829\nItalian Concerto in F major BWV 971\nPrelude and Fugue in A minor BWV 894
URL:https://angelahewitt.com/performance/recital-in-weimar/
LOCATION:Maurice-Halbwachs-Auditorium\, Steubenstraße 6F\, Weimar\, Thüringen\, 99423\, Germany
END:VEVENT
END:VCALENDAR